BEGIN:VCALENDAR
VERSION:2.0
PRODID:-//Sister Sojourn - ECPv6.15.17.1//NONSGML v1.0//EN
CALSCALE:GREGORIAN
METHOD:PUBLISH
X-WR-CALNAME:Sister Sojourn
X-ORIGINAL-URL:https://sistersojourn.com
X-WR-CALDESC:Events for Sister Sojourn
REFRESH-INTERVAL;VALUE=DURATION:PT1H
X-Robots-Tag:noindex
X-PUBLISHED-TTL:PT1H
BEGIN:VTIMEZONE
TZID:America/New_York
BEGIN:DAYLIGHT
TZOFFSETFROM:-0500
TZOFFSETTO:-0400
TZNAME:EDT
DTSTART:20230312T070000
END:DAYLIGHT
BEGIN:STANDARD
TZOFFSETFROM:-0400
TZOFFSETTO:-0500
TZNAME:EST
DTSTART:20231105T060000
END:STANDARD
BEGIN:DAYLIGHT
TZOFFSETFROM:-0500
TZOFFSETTO:-0400
TZNAME:EDT
DTSTART:20240310T070000
END:DAYLIGHT
BEGIN:STANDARD
TZOFFSETFROM:-0400
TZOFFSETTO:-0500
TZNAME:EST
DTSTART:20241103T060000
END:STANDARD
BEGIN:DAYLIGHT
TZOFFSETFROM:-0500
TZOFFSETTO:-0400
TZNAME:EDT
DTSTART:20250309T070000
END:DAYLIGHT
BEGIN:STANDARD
TZOFFSETFROM:-0400
TZOFFSETTO:-0500
TZNAME:EST
DTSTART:20251102T060000
END:STANDARD
END:VTIMEZONE
BEGIN:VEVENT
DTSTART;VALUE=DATE:20240717
DTEND;VALUE=DATE:20240720
DTSTAMP:20260422T133832
CREATED:20240119T023707Z
LAST-MODIFIED:20240717T161328Z
UID:1839-1721174400-1721433599@sistersojourn.com
SUMMARY:Izzy's Next-Gen Adventure
DESCRIPTION:8-year-old Izzy takes on a 3-day\, 60-mile bike ride on the Pine Creek Trail in Pennsylvania with Gimmy (grandmother Kelly).  Make her miles meaningful for her generation and generations to come.
URL:https://sistersojourn.com/event/izzy-bike/
LOCATION:PA
END:VEVENT
END:VCALENDAR