BEGIN:VCALENDAR
VERSION:2.0
PRODID:-//Sister Sojourn - ECPv6.15.17.1//NONSGML v1.0//EN
CALSCALE:GREGORIAN
METHOD:PUBLISH
X-ORIGINAL-URL:https://sistersojourn.com
X-WR-CALDESC:Events for Sister Sojourn
REFRESH-INTERVAL;VALUE=DURATION:PT1H
X-Robots-Tag:noindex
X-PUBLISHED-TTL:PT1H
BEGIN:VTIMEZONE
TZID:America/New_York
BEGIN:DAYLIGHT
TZOFFSETFROM:-0500
TZOFFSETTO:-0400
TZNAME:EDT
DTSTART:20230312T070000
END:DAYLIGHT
BEGIN:STANDARD
TZOFFSETFROM:-0400
TZOFFSETTO:-0500
TZNAME:EST
DTSTART:20231105T060000
END:STANDARD
BEGIN:DAYLIGHT
TZOFFSETFROM:-0500
TZOFFSETTO:-0400
TZNAME:EDT
DTSTART:20240310T070000
END:DAYLIGHT
BEGIN:STANDARD
TZOFFSETFROM:-0400
TZOFFSETTO:-0500
TZNAME:EST
DTSTART:20241103T060000
END:STANDARD
BEGIN:DAYLIGHT
TZOFFSETFROM:-0500
TZOFFSETTO:-0400
TZNAME:EDT
DTSTART:20250309T070000
END:DAYLIGHT
BEGIN:STANDARD
TZOFFSETFROM:-0400
TZOFFSETTO:-0500
TZNAME:EST
DTSTART:20251102T060000
END:STANDARD
BEGIN:DAYLIGHT
TZOFFSETFROM:-0500
TZOFFSETTO:-0400
TZNAME:EDT
DTSTART:20260308T070000
END:DAYLIGHT
BEGIN:STANDARD
TZOFFSETFROM:-0400
TZOFFSETTO:-0500
TZNAME:EST
DTSTART:20261101T060000
END:STANDARD
BEGIN:DAYLIGHT
TZOFFSETFROM:-0500
TZOFFSETTO:-0400
TZNAME:EDT
DTSTART:20270314T070000
END:DAYLIGHT
BEGIN:STANDARD
TZOFFSETFROM:-0400
TZOFFSETTO:-0500
TZNAME:EST
DTSTART:20271107T060000
END:STANDARD
END:VTIMEZONE
BEGIN:VEVENT
DTSTART;TZID=America/New_York:20241019T123000
DTEND;TZID=America/New_York:20241019T123000
DTSTAMP:20260422T183652
CREATED:20240713T194156Z
LAST-MODIFIED:20240713T194439Z
UID:2718-1729341000-1729341000@sistersojourn.com
SUMMARY:Puzzles\, Pedals & Pies
DESCRIPTION:TEAM SPEED PUZZLING COMPETITION \nLove puzzles? Then\, step up to our social speed puzzling challenge at Ponfeigh Distillery in Somerset\, Pa. Speed puzzling is an exciting twist on traditional jigsaw puzzles. The focus of our event is not only on completing the puzzle as quickly as possible but also on having fun with friends and family! \nWe’re inviting puzzle enthusiasts to join us on Saturday\, October 19th\, to embrace the puzzling challenge and help us raise funds for metastatic breast cancer research. \nMore Information 
URL:https://sistersojourn.com/event/puzzles-pedals-pies-somerset/
LOCATION:Ponfeigh Distillery\, 893 Stoystown Rd\, Somerset\, PA\, 15501
END:VEVENT
BEGIN:VEVENT
DTSTART;TZID=America/New_York:20251011T123000
DTEND;TZID=America/New_York:20251011T123000
DTSTAMP:20260422T183652
CREATED:20250819T153518Z
LAST-MODIFIED:20250819T153518Z
UID:3102-1760185800-1760185800@sistersojourn.com
SUMMARY:Puzzles\, Pedals & Pies at Ponfeigh
DESCRIPTION:
URL:https://sistersojourn.com/event/puzzles-pedals-pies-at-ponfeigh/
LOCATION:PA
END:VEVENT
BEGIN:VEVENT
DTSTART;TZID=America/New_York:20260425T123000
DTEND;TZID=America/New_York:20260425T160000
DTSTAMP:20260422T183652
CREATED:20251020T203019Z
LAST-MODIFIED:20260118T185015Z
UID:3233-1777120200-1777132800@sistersojourn.com
SUMMARY:Puzzles\, Pedals & Pies
DESCRIPTION:We’re inviting puzzle enthusiasts to join us on Saturday\, April 25\, 2026\, to step up to the puzzling challenge and help us raise funds for metastatic breast cancer research. We’ll also announce our next Sister Sojourn bike trek(s) plans.
URL:https://sistersojourn.com/event/puzzles-pedals-pies/
LOCATION:AACA Museum\, Inc.\, 161 Museum Drive\, Hershey\, PA\, 17033\, United States
END:VEVENT
END:VCALENDAR