BEGIN:VCALENDAR
VERSION:2.0
PRODID:-//Sister Sojourn - ECPv6.15.17.1//NONSGML v1.0//EN
CALSCALE:GREGORIAN
METHOD:PUBLISH
X-ORIGINAL-URL:https://sistersojourn.com
X-WR-CALDESC:Events for Sister Sojourn
REFRESH-INTERVAL;VALUE=DURATION:PT1H
X-Robots-Tag:noindex
X-PUBLISHED-TTL:PT1H
BEGIN:VTIMEZONE
TZID:America/New_York
BEGIN:DAYLIGHT
TZOFFSETFROM:-0500
TZOFFSETTO:-0400
TZNAME:EDT
DTSTART:20250309T070000
END:DAYLIGHT
BEGIN:STANDARD
TZOFFSETFROM:-0400
TZOFFSETTO:-0500
TZNAME:EST
DTSTART:20251102T060000
END:STANDARD
BEGIN:DAYLIGHT
TZOFFSETFROM:-0500
TZOFFSETTO:-0400
TZNAME:EDT
DTSTART:20260308T070000
END:DAYLIGHT
BEGIN:STANDARD
TZOFFSETFROM:-0400
TZOFFSETTO:-0500
TZNAME:EST
DTSTART:20261101T060000
END:STANDARD
BEGIN:DAYLIGHT
TZOFFSETFROM:-0500
TZOFFSETTO:-0400
TZNAME:EDT
DTSTART:20270314T070000
END:DAYLIGHT
BEGIN:STANDARD
TZOFFSETFROM:-0400
TZOFFSETTO:-0500
TZNAME:EST
DTSTART:20271107T060000
END:STANDARD
END:VTIMEZONE
BEGIN:VEVENT
DTSTART;TZID=America/New_York:20260425T123000
DTEND;TZID=America/New_York:20260425T160000
DTSTAMP:20260421T003209
CREATED:20251020T203019Z
LAST-MODIFIED:20260118T185015Z
UID:3233-1777120200-1777132800@sistersojourn.com
SUMMARY:Puzzles\, Pedals & Pies
DESCRIPTION:We’re inviting puzzle enthusiasts to join us on Saturday\, April 25\, 2026\, to step up to the puzzling challenge and help us raise funds for metastatic breast cancer research. We’ll also announce our next Sister Sojourn bike trek(s) plans.
URL:https://sistersojourn.com/event/puzzles-pedals-pies/
LOCATION:AACA Museum\, Inc.\, 161 Museum Drive\, Hershey\, PA\, 17033\, United States
END:VEVENT
END:VCALENDAR